BEGIN:VCALENDAR
VERSION:2.0
PRODID:-//Herzlich willkommen bei KULTURPUNKT  der interkulturellen Begegnungsplattform in Chur. - ECPv6.15.20//NONSGML v1.0//EN
CALSCALE:GREGORIAN
METHOD:PUBLISH
X-WR-CALNAME:Herzlich willkommen bei KULTURPUNKT  der interkulturellen Begegnungsplattform in Chur.
X-ORIGINAL-URL:https://kulturpunktgr.ch
X-WR-CALDESC:Veranstaltungen im Herzlich willkommen bei KULTURPUNKT  der interkulturellen Begegnungsplattform in Chur.
REFRESH-INTERVAL;VALUE=DURATION:PT1H
X-Robots-Tag:noindex
X-PUBLISHED-TTL:PT1H
BEGIN:VTIMEZONE
TZID:Europe/Zurich
BEGIN:DAYLIGHT
TZOFFSETFROM:+0100
TZOFFSETTO:+0200
TZNAME:CEST
DTSTART:20250330T010000
END:DAYLIGHT
BEGIN:STANDARD
TZOFFSETFROM:+0200
TZOFFSETTO:+0100
TZNAME:CET
DTSTART:20251026T010000
END:STANDARD
BEGIN:DAYLIGHT
TZOFFSETFROM:+0100
TZOFFSETTO:+0200
TZNAME:CEST
DTSTART:20260329T010000
END:DAYLIGHT
BEGIN:STANDARD
TZOFFSETFROM:+0200
TZOFFSETTO:+0100
TZNAME:CET
DTSTART:20261025T010000
END:STANDARD
BEGIN:DAYLIGHT
TZOFFSETFROM:+0100
TZOFFSETTO:+0200
TZNAME:CEST
DTSTART:20270328T010000
END:DAYLIGHT
BEGIN:STANDARD
TZOFFSETFROM:+0200
TZOFFSETTO:+0100
TZNAME:CET
DTSTART:20271031T010000
END:STANDARD
END:VTIMEZONE
BEGIN:VEVENT
DTSTART;TZID=Europe/Zurich:20260423T090000
DTEND;TZID=Europe/Zurich:20260423T100000
DTSTAMP:20260423T121124
CREATED:20250512T121620Z
LAST-MODIFIED:20260224T140732Z
UID:26934-1776934800-1776938400@kulturpunktgr.ch
SUMMARY:Dem Körper zuhören
DESCRIPTION:Psychophysische Gymnastik \nDiese ganzheitliche Bewegungsform vereint Elemente aus Yoga\, Aerobic\, Tanztherapie und weiteren Methoden. Mit gezielten Übungen fördern wir Beweglichkeit\, Entspannung und körperliche Stärke. \nDeine Vorteile auf einen Blick: \n· Verbesserung von Flexibilität und Gleichgewicht \n· Stärkung der Wirbelsäule \n· Mehr Elastizität und Muskelkraft \n· Förderung der Durchblutung \n· Stressabbau und mentale Entspannung \n· Grössere Lungenkapazität und bewusster Atem \nBitte mitbringen: \n· Gymnastikmatte \n· Kleines Handtuch \n· Trinkflasche \n  \nDie Veranstaltung ist kostenlos
URL:https://kulturpunktgr.ch/kalender/dem-koerper-zuhoeren-2/
LOCATION:KULTURPUNKT\, Planaterra 11\, Chur\, Graubünden\, 7000\, Switzerland
ATTACH;FMTTYPE=image/png:https://kulturpunktgr.ch/wp-content/uploads/2025/05/Hoere-auf-deinen-Koerper-1-1.png
END:VEVENT
BEGIN:VEVENT
DTSTART;TZID=Europe/Zurich:20260423T114500
DTEND;TZID=Europe/Zurich:20260423T130000
DTSTAMP:20260423T121124
CREATED:20260115T101110Z
LAST-MODIFIED:20260307T184254Z
UID:27640-1776944700-1776949200@kulturpunktgr.ch
SUMMARY:Plauder Zmittag
DESCRIPTION:Komm zum Plauder Zmittag im KULTURPUNKT und geniesse eine gemütliche Mittagspause in guter Gesellschaft. Jeden Montag und Donnerstag treffen wir uns zum Zusammensitzen plaudern und Austauschen. \nDu kannst dein eigenes Essen mitbringen oder eine feine Suppe für 5 Franken geniessen. Getränke kannst du direkt vor Ort kaufen denn der KULTURPUNKT ist ein Café Surprise. \nWir freuen uns auf dich und auf viele schöne Gespräche.
URL:https://kulturpunktgr.ch/kalender/plauder-zmittag-6/
LOCATION:KULTURPUNKT\, Planaterra 11\, Chur\, Graubünden\, 7000\, Switzerland
END:VEVENT
END:VCALENDAR