BEGIN:VCALENDAR
VERSION:2.0
PRODID:-//Herzlich willkommen bei KULTURPUNKT  der interkulturellen Begegnungsplattform in Chur. - ECPv6.15.20//NONSGML v1.0//EN
CALSCALE:GREGORIAN
METHOD:PUBLISH
X-WR-CALNAME:Herzlich willkommen bei KULTURPUNKT  der interkulturellen Begegnungsplattform in Chur.
X-ORIGINAL-URL:https://kulturpunktgr.ch
X-WR-CALDESC:Veranstaltungen im Herzlich willkommen bei KULTURPUNKT  der interkulturellen Begegnungsplattform in Chur.
REFRESH-INTERVAL;VALUE=DURATION:PT1H
X-Robots-Tag:noindex
X-PUBLISHED-TTL:PT1H
BEGIN:VTIMEZONE
TZID:Europe/Zurich
BEGIN:DAYLIGHT
TZOFFSETFROM:+0100
TZOFFSETTO:+0200
TZNAME:CEST
DTSTART:20250330T010000
END:DAYLIGHT
BEGIN:STANDARD
TZOFFSETFROM:+0200
TZOFFSETTO:+0100
TZNAME:CET
DTSTART:20251026T010000
END:STANDARD
BEGIN:DAYLIGHT
TZOFFSETFROM:+0100
TZOFFSETTO:+0200
TZNAME:CEST
DTSTART:20260329T010000
END:DAYLIGHT
BEGIN:STANDARD
TZOFFSETFROM:+0200
TZOFFSETTO:+0100
TZNAME:CET
DTSTART:20261025T010000
END:STANDARD
BEGIN:DAYLIGHT
TZOFFSETFROM:+0100
TZOFFSETTO:+0200
TZNAME:CEST
DTSTART:20270328T010000
END:DAYLIGHT
BEGIN:STANDARD
TZOFFSETFROM:+0200
TZOFFSETTO:+0100
TZNAME:CET
DTSTART:20271031T010000
END:STANDARD
END:VTIMEZONE
BEGIN:VEVENT
DTSTART;TZID=Europe/Zurich:20260426T090000
DTEND;TZID=Europe/Zurich:20260426T120000
DTSTAMP:20260426T014826
CREATED:20250207T160017Z
LAST-MODIFIED:20251205T124630Z
UID:26596-1777194000-1777204800@kulturpunktgr.ch
SUMMARY:KULTUREN BRUNCH
DESCRIPTION:Gemeinsam interkulturell frühstücken \nLass uns zusammen ein buntes Morgen-Buffet geniessen – bringe einfach eine Spezialität aus deinem Heimatland mit. So entsteht ein vielfältiges Frühstück\, bei dem alle Kulturen gefeiert werden. Freunde und Gäste sind jederzeit herzlich willkommen! \nFalls du nichts mitbringen kannst\, freuen wir uns\, wenn du mit einem freiwilligen Beitrag die Kosten der Produzent*innen unterstützt. \nErlebe köstliche Gerichte aus aller Welt\, lerne neue Menschen kennen und tausche dich in entspannter Atmosphäre aus. Getränke sind vor Ort erhältlich – wir sind ein Café Surprise.
URL:https://kulturpunktgr.ch/kalender/kulturenbrunch-8/
LOCATION:KULTURPUNKT\, Planaterra 11\, Chur\, Graubünden\, 7000\, Switzerland
CATEGORIES:Kulinarik,Verweilen
ATTACH;FMTTYPE=image/png:https://kulturpunktgr.ch/wp-content/uploads/2025/02/K_Brunch-Vorderseite.png
END:VEVENT
END:VCALENDAR